BEGIN:VCALENDAR
VERSION:2.0
PRODID:-//Lake Fork News - ECPv6.15.17//NONSGML v1.0//EN
CALSCALE:GREGORIAN
METHOD:PUBLISH
X-WR-CALNAME:Lake Fork News
X-ORIGINAL-URL:https://lakeforknewsfishon.com
X-WR-CALDESC:Events for Lake Fork News
REFRESH-INTERVAL;VALUE=DURATION:PT1H
X-Robots-Tag:noindex
X-PUBLISHED-TTL:PT1H
BEGIN:VTIMEZONE
TZID:UTC
BEGIN:STANDARD
TZOFFSETFROM:+0000
TZOFFSETTO:+0000
TZNAME:UTC
DTSTART:20250101T000000
END:STANDARD
END:VTIMEZONE
BEGIN:VEVENT
DTSTART;VALUE=DATE:20260228
DTEND;VALUE=DATE:20260301
DTSTAMP:20260422T121807
CREATED:20260106T185617Z
LAST-MODIFIED:20260106T185922Z
UID:852-1772236800-1772323199@lakeforknewsfishon.com
SUMMARY:JC OUTDOORS
DESCRIPTION:JC OUTDOORS TEAM
URL:https://lakeforknewsfishon.com/event/852/
END:VEVENT
BEGIN:VEVENT
DTSTART;VALUE=DATE:20260307
DTEND;VALUE=DATE:20260308
DTSTAMP:20260422T121807
CREATED:20260106T190209Z
LAST-MODIFIED:20260106T190209Z
UID:855-1772841600-1772927999@lakeforknewsfishon.com
SUMMARY:MEDIA BASS TEAM
DESCRIPTION:
URL:https://lakeforknewsfishon.com/event/media-bass-team-2/
END:VEVENT
BEGIN:VEVENT
DTSTART;VALUE=DATE:20260307
DTEND;VALUE=DATE:20260509
DTSTAMP:20260422T121807
CREATED:20260106T190348Z
LAST-MODIFIED:20260106T190348Z
UID:856-1772841600-1778284799@lakeforknewsfishon.com
SUMMARY:LAKE FORK LURES TOURNAMENT
DESCRIPTION:
URL:https://lakeforknewsfishon.com/event/lake-fork-lures-tournament/
END:VEVENT
BEGIN:VEVENT
DTSTART;VALUE=DATE:20260321
DTEND;VALUE=DATE:20260322
DTSTAMP:20260422T121807
CREATED:20260106T190459Z
LAST-MODIFIED:20260106T190459Z
UID:857-1774051200-1774137599@lakeforknewsfishon.com
SUMMARY:JC OUTDOORS SOLO
DESCRIPTION:
URL:https://lakeforknewsfishon.com/event/jc-outdoors-solo/
END:VEVENT
BEGIN:VEVENT
DTSTART;VALUE=DATE:20260327
DTEND;VALUE=DATE:20260330
DTSTAMP:20260422T121807
CREATED:20260106T190730Z
LAST-MODIFIED:20260106T190746Z
UID:858-1774569600-1774828799@lakeforknewsfishon.com
SUMMARY:CRAPPIEFEST
DESCRIPTION:Lake Fork News Banner promoting CrappieFest 2026 at Lake Fork\, Texas\, March 27-29; features Cody Cannon concert\, tournaments\, prizes\, event website. Lake Fork\, TX
URL:https://lakeforknewsfishon.com/event/crappiefest/
END:VEVENT
BEGIN:VEVENT
DTSTART;VALUE=DATE:20260412
DTEND;VALUE=DATE:20260413
DTSTAMP:20260422T121807
CREATED:20260106T190925Z
LAST-MODIFIED:20260106T191126Z
UID:860-1775952000-1776038399@lakeforknewsfishon.com
SUMMARY:MEGA BASS
DESCRIPTION:
URL:https://lakeforknewsfishon.com/event/jc-outdoors-teams/
END:VEVENT
BEGIN:VEVENT
DTSTART;VALUE=DATE:20260412
DTEND;VALUE=DATE:20260413
DTSTAMP:20260422T121807
CREATED:20260106T191307Z
LAST-MODIFIED:20260106T191307Z
UID:863-1775952000-1776038399@lakeforknewsfishon.com
SUMMARY:JAKE WILSON
DESCRIPTION:
URL:https://lakeforknewsfishon.com/event/jake-wilson/
END:VEVENT
BEGIN:VEVENT
DTSTART;VALUE=DATE:20260418
DTEND;VALUE=DATE:20260419
DTSTAMP:20260422T121807
CREATED:20260106T191219Z
LAST-MODIFIED:20260106T191219Z
UID:862-1776470400-1776556799@lakeforknewsfishon.com
SUMMARY:JC OUTDOORS SOLO
DESCRIPTION:
URL:https://lakeforknewsfishon.com/event/jc-outdoors-solo-2/
END:VEVENT
BEGIN:VEVENT
DTSTART;VALUE=DATE:20260418
DTEND;VALUE=DATE:20260620
DTSTAMP:20260422T121807
CREATED:20260106T191416Z
LAST-MODIFIED:20260106T191416Z
UID:864-1776470400-1781913599@lakeforknewsfishon.com
SUMMARY:ELLIOT ELECTRIC
DESCRIPTION:
URL:https://lakeforknewsfishon.com/event/elliot-electric/
END:VEVENT
END:VCALENDAR