BEGIN:VCALENDAR
VERSION:2.0
PRODID:-//Lake Fork News - ECPv6.15.17//NONSGML v1.0//EN
CALSCALE:GREGORIAN
METHOD:PUBLISH
X-WR-CALNAME:Lake Fork News
X-ORIGINAL-URL:https://lakeforknewsfishon.com
X-WR-CALDESC:Events for Lake Fork News
REFRESH-INTERVAL;VALUE=DURATION:PT1H
X-Robots-Tag:noindex
X-PUBLISHED-TTL:PT1H
BEGIN:VTIMEZONE
TZID:UTC
BEGIN:STANDARD
TZOFFSETFROM:+0000
TZOFFSETTO:+0000
TZNAME:UTC
DTSTART:20250101T000000
END:STANDARD
END:VTIMEZONE
BEGIN:VEVENT
DTSTART;VALUE=DATE:20260207
DTEND;VALUE=DATE:20260208
DTSTAMP:20260422T134904
CREATED:20260106T190114Z
LAST-MODIFIED:20260106T190114Z
UID:854-1770422400-1770508799@lakeforknewsfishon.com
SUMMARY:MEDIA BASS TEAM
DESCRIPTION:
URL:https://lakeforknewsfishon.com/event/media-bass-team/
END:VEVENT
BEGIN:VEVENT
DTSTART;TZID=UTC:20260205T080000
DTEND;TZID=UTC:20260205T170000
DTSTAMP:20260422T134904
CREATED:20260106T190028Z
LAST-MODIFIED:20260106T190028Z
UID:853-1770278400-1770310800@lakeforknewsfishon.com
SUMMARY:BASS CHAMPS TEAM TOURNAMENT
DESCRIPTION:
URL:https://lakeforknewsfishon.com/event/bass-champs-team-tournament/
END:VEVENT
END:VCALENDAR